BEGIN:VCALENDAR
VERSION:2.0
PRODID:-//Kentucky Opera - ECPv6.15.17//NONSGML v1.0//EN
CALSCALE:GREGORIAN
METHOD:PUBLISH
X-WR-CALNAME:Kentucky Opera
X-ORIGINAL-URL:https://kyopera.org
X-WR-CALDESC:Events for Kentucky Opera
REFRESH-INTERVAL;VALUE=DURATION:PT1H
X-Robots-Tag:noindex
X-PUBLISHED-TTL:PT1H
BEGIN:VTIMEZONE
TZID:America/Halifax
BEGIN:DAYLIGHT
TZOFFSETFROM:-0400
TZOFFSETTO:-0300
TZNAME:ADT
DTSTART:20240310T060000
END:DAYLIGHT
BEGIN:STANDARD
TZOFFSETFROM:-0300
TZOFFSETTO:-0400
TZNAME:AST
DTSTART:20241103T050000
END:STANDARD
BEGIN:DAYLIGHT
TZOFFSETFROM:-0400
TZOFFSETTO:-0300
TZNAME:ADT
DTSTART:20250309T060000
END:DAYLIGHT
BEGIN:STANDARD
TZOFFSETFROM:-0300
TZOFFSETTO:-0400
TZNAME:AST
DTSTART:20251102T050000
END:STANDARD
BEGIN:DAYLIGHT
TZOFFSETFROM:-0400
TZOFFSETTO:-0300
TZNAME:ADT
DTSTART:20260308T060000
END:DAYLIGHT
BEGIN:STANDARD
TZOFFSETFROM:-0300
TZOFFSETTO:-0400
TZNAME:AST
DTSTART:20261101T050000
END:STANDARD
END:VTIMEZONE
BEGIN:VTIMEZONE
TZID:UTC
BEGIN:STANDARD
TZOFFSETFROM:+0000
TZOFFSETTO:+0000
TZNAME:UTC
DTSTART:20240101T000000
END:STANDARD
END:VTIMEZONE
BEGIN:VEVENT
DTSTART;TZID=America/Halifax:20250518T160000
DTEND;TZID=America/Halifax:20250518T160000
DTSTAMP:20260424T052308
CREATED:20240703T013347Z
LAST-MODIFIED:20250312T183356Z
UID:4874-1747584000-1747584000@kyopera.org
SUMMARY:Amplify Songs of Remembrance
DESCRIPTION:Commemorating 80 years since the liberation of the Terezín concentration camp in May 1945\, we remember those who suffered and perished at the hands of the Nazis in WWII. This Holocaust remembrance concert will include a performance of For a Look or a Touch by Jake Heggie and Gene Scheer\, and Brundibár by Hans Krása — a short opera known to be performed by the incarcerated children of Terezín\, among others. \nSponsored in part by Hardscuffle\, Inc. \nTickets onsale now! \nClick here
URL:https://kyopera.org/event/remembrance/
LOCATION:Kentucky Opera Center for Cultural Health\, 708 Magazine Street\, Louisville\, KY\, 40203\, United States
ATTACH;FMTTYPE=image/png:https://kyopera.org/wp-content/uploads/2024/07/KYO_Amplify_Remebrance_blk.png
END:VEVENT
BEGIN:VEVENT
DTSTART;TZID=UTC:20250619T190000
DTEND;TZID=UTC:20250619T190000
DTSTAMP:20260424T052308
CREATED:20250411T164004Z
LAST-MODIFIED:20250605T192532Z
UID:6214-1750359600-1750359600@kyopera.org
SUMMARY:Amplify Songs of Justice
DESCRIPTION:The signature event for Metro Louisville’s official Juneteenth Jubilee Celebration\, Kentucky Opera’s Third Annual Amplify Songs of Justice is an evening of inspiring music\, art\, and spoken word commemorating this important date in American history.
URL:https://kyopera.org/event/amplify-songs-of-justice-2/
LOCATION:Kentucky Opera Center for Cultural Health\, 708 Magazine Street\, Louisville\, KY\, 40203\, United States
ORGANIZER;CN="Kentucky Opera":MAILTO:email@kyopera.org
END:VEVENT
END:VCALENDAR